BEGIN:VCALENDAR
VERSION:2.0
PRODID:-//Haus St. Elisabeth, Kitzingen - ECPv6.15.17//NONSGML v1.0//EN
CALSCALE:GREGORIAN
METHOD:PUBLISH
X-WR-CALNAME:Haus St. Elisabeth, Kitzingen
X-ORIGINAL-URL:https://www.st-elisabeth-kitzingen.de
X-WR-CALDESC:Veranstaltungen für Haus St. Elisabeth, Kitzingen
REFRESH-INTERVAL;VALUE=DURATION:PT1H
X-Robots-Tag:noindex
X-PUBLISHED-TTL:PT1H
BEGIN:VTIMEZONE
TZID:Europe/Berlin
BEGIN:DAYLIGHT
TZOFFSETFROM:+0100
TZOFFSETTO:+0200
TZNAME:CEST
DTSTART:20270328T010000
END:DAYLIGHT
BEGIN:STANDARD
TZOFFSETFROM:+0200
TZOFFSETTO:+0100
TZNAME:CET
DTSTART:20271031T010000
END:STANDARD
BEGIN:DAYLIGHT
TZOFFSETFROM:+0100
TZOFFSETTO:+0200
TZNAME:CEST
DTSTART:20280326T010000
END:DAYLIGHT
BEGIN:STANDARD
TZOFFSETFROM:+0200
TZOFFSETTO:+0100
TZNAME:CET
DTSTART:20281029T010000
END:STANDARD
BEGIN:DAYLIGHT
TZOFFSETFROM:+0100
TZOFFSETTO:+0200
TZNAME:CEST
DTSTART:20290325T010000
END:DAYLIGHT
BEGIN:STANDARD
TZOFFSETFROM:+0200
TZOFFSETTO:+0100
TZNAME:CET
DTSTART:20291028T010000
END:STANDARD
END:VTIMEZONE
BEGIN:VEVENT
DTSTART;TZID=Europe/Berlin:20280619T180000
DTEND;TZID=Europe/Berlin:20280619T190000
DTSTAMP:20260420T152638
CREATED:20240315T132057Z
LAST-MODIFIED:20240612T092817Z
UID:10000619-1845050400-1845054000@www.st-elisabeth-kitzingen.de
SUMMARY:Bingo
DESCRIPTION:Wir spielen Bingo :). „Gastspieler“ können gegen eine Spende mitspielen. (Angabe ohne Gewähr)
URL:https://www.st-elisabeth-kitzingen.de/event/bingo/2028-06-19/
ATTACH;FMTTYPE=image/png:https://www.st-elisabeth-kitzingen.de/wp-content/uploads/2024/03/will-you-be-my443.png
END:VEVENT
BEGIN:VEVENT
DTSTART;TZID=Europe/Berlin:20280621T100000
DTEND;TZID=Europe/Berlin:20280621T110000
DTSTAMP:20260420T152638
CREATED:20260223T131046Z
LAST-MODIFIED:20260407T082853Z
UID:10003404-1845194400-1845198000@www.st-elisabeth-kitzingen.de
SUMMARY:Tanzen für Frauen - im Bürgerzentrum
DESCRIPTION:Mach mit beim Tanzen für Frauen: Bewegung\, Musik und Rhythmus\, das sind Garanten für eine gute\, gesundheitsfördernde Zeit voller Freude. \nImmer Mittwochs um 10:00 Uhr im Bürgerzentrum
URL:https://www.st-elisabeth-kitzingen.de/event/tanzen-fuer-frauen-im-buergerzentrum-2-2-2-2/2028-06-21/
LOCATION:Bürgerzentrum Kitzingen\, Schrannenstr. 35\, Kitzingen\, 97318\, Deutschland
ATTACH;FMTTYPE=image/png:https://www.st-elisabeth-kitzingen.de/wp-content/uploads/2024/10/Story-Tanzen-fuer-Frauen.png
END:VEVENT
BEGIN:VEVENT
DTSTART;TZID=Europe/Berlin:20280622T180000
DTEND;TZID=Europe/Berlin:20280622T191500
DTSTAMP:20260420T152638
CREATED:20251216T072444Z
LAST-MODIFIED:20251216T072446Z
UID:10000881-1845309600-1845314100@www.st-elisabeth-kitzingen.de
SUMMARY:Frauenstammtisch
DESCRIPTION:Im Frauenstammtisch treffen sich Frauen an einem Ort\, um zu diskutieren\, sich auszutauschen und einfach mal unter sich zu sein. \nWir laden auch Sie herzlich dazu ein.
URL:https://www.st-elisabeth-kitzingen.de/event/frauenstammtisch-2/2028-06-22/
ATTACH;FMTTYPE=image/png:https://www.st-elisabeth-kitzingen.de/wp-content/uploads/2024/06/Frauenstammtisch.png
END:VEVENT
BEGIN:VEVENT
DTSTART;TZID=Europe/Berlin:20280623T100000
DTEND;TZID=Europe/Berlin:20280623T113000
DTSTAMP:20260420T152638
CREATED:20251216T072631Z
LAST-MODIFIED:20251216T072633Z
UID:10002583-1845367200-1845372600@www.st-elisabeth-kitzingen.de
SUMMARY:Internationale Mutter - Kind - Gruppe im Bürgerzentrum
DESCRIPTION:Die Internationale Mutter – Kind – Gruppe im Bürgerzentrum ist ein Ort\, an dem Kinder und deren Mamas aus verschiedenen Kulturen zusammenkommen\, um zu spielen\, sich zu unterhalten und gemeinsam zu basteln. Hier können sie neue Freunde finden und ihre kreativen Fähigkeiten entfalten. Die Mütter haben die Möglichkeit\, sich auszutauschen und voneinander zu lernen. Es ist ein bunter Treffpunkt\, an dem Vielfalt und Gemeinschaft im Mittelpunkt stehen. (Angabe ohne Gewähr)
URL:https://www.st-elisabeth-kitzingen.de/event/internationale-mutter-kind-gruppe-2-2/2028-06-23/
ATTACH;FMTTYPE=image/png:https://www.st-elisabeth-kitzingen.de/wp-content/uploads/2024/08/Story-Internationale-Mutter-Kind-Gruppe-.png
END:VEVENT
BEGIN:VEVENT
DTSTART;TZID=Europe/Berlin:20280623T180000
DTEND;TZID=Europe/Berlin:20280623T190000
DTSTAMP:20260420T152638
CREATED:20251216T075558Z
LAST-MODIFIED:20251216T075559Z
UID:10002842-1845396000-1845399600@www.st-elisabeth-kitzingen.de
SUMMARY:Spieleabend
DESCRIPTION:Wir spielen – von „Mensch – ärgere – dich – nicht“ über „Rommé“ oder was auch immer gerade gewünscht ist. Jede/r ist willkommen. Bringen Sie doch einfach einmal Ihr Lieblingsspiel mit (Angabe ohne Gewähr)
URL:https://www.st-elisabeth-kitzingen.de/event/spieleabend-2/2028-06-23/
ATTACH;FMTTYPE=image/png:https://www.st-elisabeth-kitzingen.de/wp-content/uploads/2024/03/Ab-1900-Uhr549.png
END:VEVENT
BEGIN:VEVENT
DTSTART;TZID=Europe/Berlin:20280626T100000
DTEND;TZID=Europe/Berlin:20280626T110000
DTSTAMP:20260420T152638
CREATED:20260223T130637Z
LAST-MODIFIED:20260223T130637Z
UID:10003131-1845626400-1845630000@www.st-elisabeth-kitzingen.de
SUMMARY:Laufen für Frauen mit Fakhri
DESCRIPTION:Treffpunkt Bürgerzentrum
URL:https://www.st-elisabeth-kitzingen.de/event/laufen-fuer-frauen-mit-fakhri-3/2028-06-26/
ATTACH;FMTTYPE=image/png:https://www.st-elisabeth-kitzingen.de/wp-content/uploads/2026/02/Story-Laufen-fuer-Frauen-2.png
END:VEVENT
BEGIN:VEVENT
DTSTART;TZID=Europe/Berlin:20280626T180000
DTEND;TZID=Europe/Berlin:20280626T190000
DTSTAMP:20260420T152638
CREATED:20240315T132057Z
LAST-MODIFIED:20240612T092817Z
UID:10000620-1845655200-1845658800@www.st-elisabeth-kitzingen.de
SUMMARY:Bingo
DESCRIPTION:Wir spielen Bingo :). „Gastspieler“ können gegen eine Spende mitspielen. (Angabe ohne Gewähr)
URL:https://www.st-elisabeth-kitzingen.de/event/bingo/2028-06-26/
ATTACH;FMTTYPE=image/png:https://www.st-elisabeth-kitzingen.de/wp-content/uploads/2024/03/will-you-be-my443.png
END:VEVENT
BEGIN:VEVENT
DTSTART;TZID=Europe/Berlin:20280628T100000
DTEND;TZID=Europe/Berlin:20280628T110000
DTSTAMP:20260420T152638
CREATED:20260223T131046Z
LAST-MODIFIED:20260407T082853Z
UID:10003405-1845799200-1845802800@www.st-elisabeth-kitzingen.de
SUMMARY:Tanzen für Frauen - im Bürgerzentrum
DESCRIPTION:Mach mit beim Tanzen für Frauen: Bewegung\, Musik und Rhythmus\, das sind Garanten für eine gute\, gesundheitsfördernde Zeit voller Freude. \nImmer Mittwochs um 10:00 Uhr im Bürgerzentrum
URL:https://www.st-elisabeth-kitzingen.de/event/tanzen-fuer-frauen-im-buergerzentrum-2-2-2-2/2028-06-28/
LOCATION:Bürgerzentrum Kitzingen\, Schrannenstr. 35\, Kitzingen\, 97318\, Deutschland
ATTACH;FMTTYPE=image/png:https://www.st-elisabeth-kitzingen.de/wp-content/uploads/2024/10/Story-Tanzen-fuer-Frauen.png
END:VEVENT
BEGIN:VEVENT
DTSTART;TZID=Europe/Berlin:20280629T180000
DTEND;TZID=Europe/Berlin:20280629T191500
DTSTAMP:20260420T152638
CREATED:20251216T072444Z
LAST-MODIFIED:20251216T072446Z
UID:10000882-1845914400-1845918900@www.st-elisabeth-kitzingen.de
SUMMARY:Frauenstammtisch
DESCRIPTION:Im Frauenstammtisch treffen sich Frauen an einem Ort\, um zu diskutieren\, sich auszutauschen und einfach mal unter sich zu sein. \nWir laden auch Sie herzlich dazu ein.
URL:https://www.st-elisabeth-kitzingen.de/event/frauenstammtisch-2/2028-06-29/
ATTACH;FMTTYPE=image/png:https://www.st-elisabeth-kitzingen.de/wp-content/uploads/2024/06/Frauenstammtisch.png
END:VEVENT
BEGIN:VEVENT
DTSTART;TZID=Europe/Berlin:20280630T100000
DTEND;TZID=Europe/Berlin:20280630T113000
DTSTAMP:20260420T152638
CREATED:20251216T072631Z
LAST-MODIFIED:20251216T072633Z
UID:10002584-1845972000-1845977400@www.st-elisabeth-kitzingen.de
SUMMARY:Internationale Mutter - Kind - Gruppe im Bürgerzentrum
DESCRIPTION:Die Internationale Mutter – Kind – Gruppe im Bürgerzentrum ist ein Ort\, an dem Kinder und deren Mamas aus verschiedenen Kulturen zusammenkommen\, um zu spielen\, sich zu unterhalten und gemeinsam zu basteln. Hier können sie neue Freunde finden und ihre kreativen Fähigkeiten entfalten. Die Mütter haben die Möglichkeit\, sich auszutauschen und voneinander zu lernen. Es ist ein bunter Treffpunkt\, an dem Vielfalt und Gemeinschaft im Mittelpunkt stehen. (Angabe ohne Gewähr)
URL:https://www.st-elisabeth-kitzingen.de/event/internationale-mutter-kind-gruppe-2-2/2028-06-30/
ATTACH;FMTTYPE=image/png:https://www.st-elisabeth-kitzingen.de/wp-content/uploads/2024/08/Story-Internationale-Mutter-Kind-Gruppe-.png
END:VEVENT
BEGIN:VEVENT
DTSTART;TZID=Europe/Berlin:20280630T180000
DTEND;TZID=Europe/Berlin:20280630T190000
DTSTAMP:20260420T152638
CREATED:20251216T075558Z
LAST-MODIFIED:20251216T075559Z
UID:10002843-1846000800-1846004400@www.st-elisabeth-kitzingen.de
SUMMARY:Spieleabend
DESCRIPTION:Wir spielen – von „Mensch – ärgere – dich – nicht“ über „Rommé“ oder was auch immer gerade gewünscht ist. Jede/r ist willkommen. Bringen Sie doch einfach einmal Ihr Lieblingsspiel mit (Angabe ohne Gewähr)
URL:https://www.st-elisabeth-kitzingen.de/event/spieleabend-2/2028-06-30/
ATTACH;FMTTYPE=image/png:https://www.st-elisabeth-kitzingen.de/wp-content/uploads/2024/03/Ab-1900-Uhr549.png
END:VEVENT
BEGIN:VEVENT
DTSTART;TZID=Europe/Berlin:20280703T100000
DTEND;TZID=Europe/Berlin:20280703T110000
DTSTAMP:20260420T152638
CREATED:20260223T130637Z
LAST-MODIFIED:20260223T130637Z
UID:10003132-1846231200-1846234800@www.st-elisabeth-kitzingen.de
SUMMARY:Laufen für Frauen mit Fakhri
DESCRIPTION:Treffpunkt Bürgerzentrum
URL:https://www.st-elisabeth-kitzingen.de/event/laufen-fuer-frauen-mit-fakhri-3/2028-07-03/
ATTACH;FMTTYPE=image/png:https://www.st-elisabeth-kitzingen.de/wp-content/uploads/2026/02/Story-Laufen-fuer-Frauen-2.png
END:VEVENT
BEGIN:VEVENT
DTSTART;TZID=Europe/Berlin:20280703T180000
DTEND;TZID=Europe/Berlin:20280703T190000
DTSTAMP:20260420T152638
CREATED:20240315T132057Z
LAST-MODIFIED:20240612T092817Z
UID:10000621-1846260000-1846263600@www.st-elisabeth-kitzingen.de
SUMMARY:Bingo
DESCRIPTION:Wir spielen Bingo :). „Gastspieler“ können gegen eine Spende mitspielen. (Angabe ohne Gewähr)
URL:https://www.st-elisabeth-kitzingen.de/event/bingo/2028-07-03/
ATTACH;FMTTYPE=image/png:https://www.st-elisabeth-kitzingen.de/wp-content/uploads/2024/03/will-you-be-my443.png
END:VEVENT
BEGIN:VEVENT
DTSTART;TZID=Europe/Berlin:20280704T150000
DTEND;TZID=Europe/Berlin:20280704T163000
DTSTAMP:20260420T152638
CREATED:20251229T084836Z
LAST-MODIFIED:20251229T085557Z
UID:10001059-1846335600-1846341000@www.st-elisabeth-kitzingen.de
SUMMARY:Kreativwerkstatt
DESCRIPTION:In unserer Kreativwerkstatt kommen wir zusammen\, um gemeinsam kreativ zu sein. Wir basteln mit unterschiedlichen Materialen\, tauschen Ideen aus und lassen unserer Fantasie freien Lauf. Bei unseren Treffen steht der Spaß im Vordergrund – wir lachen\, haben eine gute Zeit und genießen es\, unsere kreativen Ideen zum Leben zu erwecken. Egal ob Anfänger oder erfahrener Bastler\, bei uns ist jeder willkommen und kann sich inspirieren lassen. Wir freuen uns darauf\, gemeinsam mit dir in unserer Kreativwerkstatt neue Kunstwerke zu erschaffen! (Angabe ohne Gewähr)
URL:https://www.st-elisabeth-kitzingen.de/event/kreativwerkstatt-2-2-2/2028-07-04/
ATTACH;FMTTYPE=image/png:https://www.st-elisabeth-kitzingen.de/wp-content/uploads/2024/05/Kreativwerkstatt.png
END:VEVENT
BEGIN:VEVENT
DTSTART;TZID=Europe/Berlin:20280705T100000
DTEND;TZID=Europe/Berlin:20280705T110000
DTSTAMP:20260420T152638
CREATED:20260223T131046Z
LAST-MODIFIED:20260407T082853Z
UID:10003406-1846404000-1846407600@www.st-elisabeth-kitzingen.de
SUMMARY:Tanzen für Frauen - im Bürgerzentrum
DESCRIPTION:Mach mit beim Tanzen für Frauen: Bewegung\, Musik und Rhythmus\, das sind Garanten für eine gute\, gesundheitsfördernde Zeit voller Freude. \nImmer Mittwochs um 10:00 Uhr im Bürgerzentrum
URL:https://www.st-elisabeth-kitzingen.de/event/tanzen-fuer-frauen-im-buergerzentrum-2-2-2-2/2028-07-05/
LOCATION:Bürgerzentrum Kitzingen\, Schrannenstr. 35\, Kitzingen\, 97318\, Deutschland
ATTACH;FMTTYPE=image/png:https://www.st-elisabeth-kitzingen.de/wp-content/uploads/2024/10/Story-Tanzen-fuer-Frauen.png
END:VEVENT
BEGIN:VEVENT
DTSTART;TZID=Europe/Berlin:20280706T180000
DTEND;TZID=Europe/Berlin:20280706T191500
DTSTAMP:20260420T152638
CREATED:20251216T072444Z
LAST-MODIFIED:20251216T072446Z
UID:10000883-1846519200-1846523700@www.st-elisabeth-kitzingen.de
SUMMARY:Frauenstammtisch
DESCRIPTION:Im Frauenstammtisch treffen sich Frauen an einem Ort\, um zu diskutieren\, sich auszutauschen und einfach mal unter sich zu sein. \nWir laden auch Sie herzlich dazu ein.
URL:https://www.st-elisabeth-kitzingen.de/event/frauenstammtisch-2/2028-07-06/
ATTACH;FMTTYPE=image/png:https://www.st-elisabeth-kitzingen.de/wp-content/uploads/2024/06/Frauenstammtisch.png
END:VEVENT
BEGIN:VEVENT
DTSTART;TZID=Europe/Berlin:20280707T100000
DTEND;TZID=Europe/Berlin:20280707T113000
DTSTAMP:20260420T152638
CREATED:20251216T072631Z
LAST-MODIFIED:20251216T072633Z
UID:10002585-1846576800-1846582200@www.st-elisabeth-kitzingen.de
SUMMARY:Internationale Mutter - Kind - Gruppe im Bürgerzentrum
DESCRIPTION:Die Internationale Mutter – Kind – Gruppe im Bürgerzentrum ist ein Ort\, an dem Kinder und deren Mamas aus verschiedenen Kulturen zusammenkommen\, um zu spielen\, sich zu unterhalten und gemeinsam zu basteln. Hier können sie neue Freunde finden und ihre kreativen Fähigkeiten entfalten. Die Mütter haben die Möglichkeit\, sich auszutauschen und voneinander zu lernen. Es ist ein bunter Treffpunkt\, an dem Vielfalt und Gemeinschaft im Mittelpunkt stehen. (Angabe ohne Gewähr)
URL:https://www.st-elisabeth-kitzingen.de/event/internationale-mutter-kind-gruppe-2-2/2028-07-07/
ATTACH;FMTTYPE=image/png:https://www.st-elisabeth-kitzingen.de/wp-content/uploads/2024/08/Story-Internationale-Mutter-Kind-Gruppe-.png
END:VEVENT
BEGIN:VEVENT
DTSTART;TZID=Europe/Berlin:20280707T180000
DTEND;TZID=Europe/Berlin:20280707T190000
DTSTAMP:20260420T152638
CREATED:20251216T075558Z
LAST-MODIFIED:20251216T075559Z
UID:10002844-1846605600-1846609200@www.st-elisabeth-kitzingen.de
SUMMARY:Spieleabend
DESCRIPTION:Wir spielen – von „Mensch – ärgere – dich – nicht“ über „Rommé“ oder was auch immer gerade gewünscht ist. Jede/r ist willkommen. Bringen Sie doch einfach einmal Ihr Lieblingsspiel mit (Angabe ohne Gewähr)
URL:https://www.st-elisabeth-kitzingen.de/event/spieleabend-2/2028-07-07/
ATTACH;FMTTYPE=image/png:https://www.st-elisabeth-kitzingen.de/wp-content/uploads/2024/03/Ab-1900-Uhr549.png
END:VEVENT
BEGIN:VEVENT
DTSTART;TZID=Europe/Berlin:20280710T100000
DTEND;TZID=Europe/Berlin:20280710T110000
DTSTAMP:20260420T152638
CREATED:20260223T130637Z
LAST-MODIFIED:20260223T130637Z
UID:10003133-1846836000-1846839600@www.st-elisabeth-kitzingen.de
SUMMARY:Laufen für Frauen mit Fakhri
DESCRIPTION:Treffpunkt Bürgerzentrum
URL:https://www.st-elisabeth-kitzingen.de/event/laufen-fuer-frauen-mit-fakhri-3/2028-07-10/
ATTACH;FMTTYPE=image/png:https://www.st-elisabeth-kitzingen.de/wp-content/uploads/2026/02/Story-Laufen-fuer-Frauen-2.png
END:VEVENT
BEGIN:VEVENT
DTSTART;TZID=Europe/Berlin:20280710T180000
DTEND;TZID=Europe/Berlin:20280710T190000
DTSTAMP:20260420T152638
CREATED:20240315T132057Z
LAST-MODIFIED:20240612T092817Z
UID:10000622-1846864800-1846868400@www.st-elisabeth-kitzingen.de
SUMMARY:Bingo
DESCRIPTION:Wir spielen Bingo :). „Gastspieler“ können gegen eine Spende mitspielen. (Angabe ohne Gewähr)
URL:https://www.st-elisabeth-kitzingen.de/event/bingo/2028-07-10/
ATTACH;FMTTYPE=image/png:https://www.st-elisabeth-kitzingen.de/wp-content/uploads/2024/03/will-you-be-my443.png
END:VEVENT
BEGIN:VEVENT
DTSTART;TZID=Europe/Berlin:20280712T100000
DTEND;TZID=Europe/Berlin:20280712T110000
DTSTAMP:20260420T152638
CREATED:20260223T131046Z
LAST-MODIFIED:20260407T082853Z
UID:10003407-1847008800-1847012400@www.st-elisabeth-kitzingen.de
SUMMARY:Tanzen für Frauen - im Bürgerzentrum
DESCRIPTION:Mach mit beim Tanzen für Frauen: Bewegung\, Musik und Rhythmus\, das sind Garanten für eine gute\, gesundheitsfördernde Zeit voller Freude. \nImmer Mittwochs um 10:00 Uhr im Bürgerzentrum
URL:https://www.st-elisabeth-kitzingen.de/event/tanzen-fuer-frauen-im-buergerzentrum-2-2-2-2/2028-07-12/
LOCATION:Bürgerzentrum Kitzingen\, Schrannenstr. 35\, Kitzingen\, 97318\, Deutschland
ATTACH;FMTTYPE=image/png:https://www.st-elisabeth-kitzingen.de/wp-content/uploads/2024/10/Story-Tanzen-fuer-Frauen.png
END:VEVENT
BEGIN:VEVENT
DTSTART;TZID=Europe/Berlin:20280713T180000
DTEND;TZID=Europe/Berlin:20280713T191500
DTSTAMP:20260420T152638
CREATED:20251216T072444Z
LAST-MODIFIED:20251216T072446Z
UID:10000884-1847124000-1847128500@www.st-elisabeth-kitzingen.de
SUMMARY:Frauenstammtisch
DESCRIPTION:Im Frauenstammtisch treffen sich Frauen an einem Ort\, um zu diskutieren\, sich auszutauschen und einfach mal unter sich zu sein. \nWir laden auch Sie herzlich dazu ein.
URL:https://www.st-elisabeth-kitzingen.de/event/frauenstammtisch-2/2028-07-13/
ATTACH;FMTTYPE=image/png:https://www.st-elisabeth-kitzingen.de/wp-content/uploads/2024/06/Frauenstammtisch.png
END:VEVENT
BEGIN:VEVENT
DTSTART;TZID=Europe/Berlin:20280714T100000
DTEND;TZID=Europe/Berlin:20280714T113000
DTSTAMP:20260420T152638
CREATED:20251216T072631Z
LAST-MODIFIED:20251216T072633Z
UID:10002586-1847181600-1847187000@www.st-elisabeth-kitzingen.de
SUMMARY:Internationale Mutter - Kind - Gruppe im Bürgerzentrum
DESCRIPTION:Die Internationale Mutter – Kind – Gruppe im Bürgerzentrum ist ein Ort\, an dem Kinder und deren Mamas aus verschiedenen Kulturen zusammenkommen\, um zu spielen\, sich zu unterhalten und gemeinsam zu basteln. Hier können sie neue Freunde finden und ihre kreativen Fähigkeiten entfalten. Die Mütter haben die Möglichkeit\, sich auszutauschen und voneinander zu lernen. Es ist ein bunter Treffpunkt\, an dem Vielfalt und Gemeinschaft im Mittelpunkt stehen. (Angabe ohne Gewähr)
URL:https://www.st-elisabeth-kitzingen.de/event/internationale-mutter-kind-gruppe-2-2/2028-07-14/
ATTACH;FMTTYPE=image/png:https://www.st-elisabeth-kitzingen.de/wp-content/uploads/2024/08/Story-Internationale-Mutter-Kind-Gruppe-.png
END:VEVENT
BEGIN:VEVENT
DTSTART;TZID=Europe/Berlin:20280714T180000
DTEND;TZID=Europe/Berlin:20280714T190000
DTSTAMP:20260420T152638
CREATED:20251216T075558Z
LAST-MODIFIED:20251216T075559Z
UID:10002845-1847210400-1847214000@www.st-elisabeth-kitzingen.de
SUMMARY:Spieleabend
DESCRIPTION:Wir spielen – von „Mensch – ärgere – dich – nicht“ über „Rommé“ oder was auch immer gerade gewünscht ist. Jede/r ist willkommen. Bringen Sie doch einfach einmal Ihr Lieblingsspiel mit (Angabe ohne Gewähr)
URL:https://www.st-elisabeth-kitzingen.de/event/spieleabend-2/2028-07-14/
ATTACH;FMTTYPE=image/png:https://www.st-elisabeth-kitzingen.de/wp-content/uploads/2024/03/Ab-1900-Uhr549.png
END:VEVENT
BEGIN:VEVENT
DTSTART;TZID=Europe/Berlin:20280717T100000
DTEND;TZID=Europe/Berlin:20280717T110000
DTSTAMP:20260420T152638
CREATED:20260223T130637Z
LAST-MODIFIED:20260223T130637Z
UID:10003134-1847440800-1847444400@www.st-elisabeth-kitzingen.de
SUMMARY:Laufen für Frauen mit Fakhri
DESCRIPTION:Treffpunkt Bürgerzentrum
URL:https://www.st-elisabeth-kitzingen.de/event/laufen-fuer-frauen-mit-fakhri-3/2028-07-17/
ATTACH;FMTTYPE=image/png:https://www.st-elisabeth-kitzingen.de/wp-content/uploads/2026/02/Story-Laufen-fuer-Frauen-2.png
END:VEVENT
BEGIN:VEVENT
DTSTART;TZID=Europe/Berlin:20280717T180000
DTEND;TZID=Europe/Berlin:20280717T190000
DTSTAMP:20260420T152638
CREATED:20240315T132057Z
LAST-MODIFIED:20240612T092817Z
UID:10000623-1847469600-1847473200@www.st-elisabeth-kitzingen.de
SUMMARY:Bingo
DESCRIPTION:Wir spielen Bingo :). „Gastspieler“ können gegen eine Spende mitspielen. (Angabe ohne Gewähr)
URL:https://www.st-elisabeth-kitzingen.de/event/bingo/2028-07-17/
ATTACH;FMTTYPE=image/png:https://www.st-elisabeth-kitzingen.de/wp-content/uploads/2024/03/will-you-be-my443.png
END:VEVENT
BEGIN:VEVENT
DTSTART;TZID=Europe/Berlin:20280719T100000
DTEND;TZID=Europe/Berlin:20280719T110000
DTSTAMP:20260420T152638
CREATED:20260223T131046Z
LAST-MODIFIED:20260407T082853Z
UID:10003408-1847613600-1847617200@www.st-elisabeth-kitzingen.de
SUMMARY:Tanzen für Frauen - im Bürgerzentrum
DESCRIPTION:Mach mit beim Tanzen für Frauen: Bewegung\, Musik und Rhythmus\, das sind Garanten für eine gute\, gesundheitsfördernde Zeit voller Freude. \nImmer Mittwochs um 10:00 Uhr im Bürgerzentrum
URL:https://www.st-elisabeth-kitzingen.de/event/tanzen-fuer-frauen-im-buergerzentrum-2-2-2-2/2028-07-19/
LOCATION:Bürgerzentrum Kitzingen\, Schrannenstr. 35\, Kitzingen\, 97318\, Deutschland
ATTACH;FMTTYPE=image/png:https://www.st-elisabeth-kitzingen.de/wp-content/uploads/2024/10/Story-Tanzen-fuer-Frauen.png
END:VEVENT
BEGIN:VEVENT
DTSTART;TZID=Europe/Berlin:20280720T180000
DTEND;TZID=Europe/Berlin:20280720T191500
DTSTAMP:20260420T152638
CREATED:20251216T072444Z
LAST-MODIFIED:20251216T072446Z
UID:10000885-1847728800-1847733300@www.st-elisabeth-kitzingen.de
SUMMARY:Frauenstammtisch
DESCRIPTION:Im Frauenstammtisch treffen sich Frauen an einem Ort\, um zu diskutieren\, sich auszutauschen und einfach mal unter sich zu sein. \nWir laden auch Sie herzlich dazu ein.
URL:https://www.st-elisabeth-kitzingen.de/event/frauenstammtisch-2/2028-07-20/
ATTACH;FMTTYPE=image/png:https://www.st-elisabeth-kitzingen.de/wp-content/uploads/2024/06/Frauenstammtisch.png
END:VEVENT
BEGIN:VEVENT
DTSTART;TZID=Europe/Berlin:20280721T100000
DTEND;TZID=Europe/Berlin:20280721T113000
DTSTAMP:20260420T152638
CREATED:20251216T072631Z
LAST-MODIFIED:20251216T072633Z
UID:10002587-1847786400-1847791800@www.st-elisabeth-kitzingen.de
SUMMARY:Internationale Mutter - Kind - Gruppe im Bürgerzentrum
DESCRIPTION:Die Internationale Mutter – Kind – Gruppe im Bürgerzentrum ist ein Ort\, an dem Kinder und deren Mamas aus verschiedenen Kulturen zusammenkommen\, um zu spielen\, sich zu unterhalten und gemeinsam zu basteln. Hier können sie neue Freunde finden und ihre kreativen Fähigkeiten entfalten. Die Mütter haben die Möglichkeit\, sich auszutauschen und voneinander zu lernen. Es ist ein bunter Treffpunkt\, an dem Vielfalt und Gemeinschaft im Mittelpunkt stehen. (Angabe ohne Gewähr)
URL:https://www.st-elisabeth-kitzingen.de/event/internationale-mutter-kind-gruppe-2-2/2028-07-21/
ATTACH;FMTTYPE=image/png:https://www.st-elisabeth-kitzingen.de/wp-content/uploads/2024/08/Story-Internationale-Mutter-Kind-Gruppe-.png
END:VEVENT
BEGIN:VEVENT
DTSTART;TZID=Europe/Berlin:20280721T180000
DTEND;TZID=Europe/Berlin:20280721T190000
DTSTAMP:20260420T152638
CREATED:20251216T075558Z
LAST-MODIFIED:20251216T075559Z
UID:10002846-1847815200-1847818800@www.st-elisabeth-kitzingen.de
SUMMARY:Spieleabend
DESCRIPTION:Wir spielen – von „Mensch – ärgere – dich – nicht“ über „Rommé“ oder was auch immer gerade gewünscht ist. Jede/r ist willkommen. Bringen Sie doch einfach einmal Ihr Lieblingsspiel mit (Angabe ohne Gewähr)
URL:https://www.st-elisabeth-kitzingen.de/event/spieleabend-2/2028-07-21/
ATTACH;FMTTYPE=image/png:https://www.st-elisabeth-kitzingen.de/wp-content/uploads/2024/03/Ab-1900-Uhr549.png
END:VEVENT
END:VCALENDAR