BEGIN:VCALENDAR
VERSION:2.0
PRODID:-//Haus St. Elisabeth, Kitzingen - ECPv6.15.17//NONSGML v1.0//EN
CALSCALE:GREGORIAN
METHOD:PUBLISH
X-WR-CALNAME:Haus St. Elisabeth, Kitzingen
X-ORIGINAL-URL:https://www.st-elisabeth-kitzingen.de
X-WR-CALDESC:Veranstaltungen für Haus St. Elisabeth, Kitzingen
REFRESH-INTERVAL;VALUE=DURATION:PT1H
X-Robots-Tag:noindex
X-PUBLISHED-TTL:PT1H
BEGIN:VTIMEZONE
TZID:Europe/Berlin
BEGIN:DAYLIGHT
TZOFFSETFROM:+0100
TZOFFSETTO:+0200
TZNAME:CEST
DTSTART:20270328T010000
END:DAYLIGHT
BEGIN:STANDARD
TZOFFSETFROM:+0200
TZOFFSETTO:+0100
TZNAME:CET
DTSTART:20271031T010000
END:STANDARD
BEGIN:DAYLIGHT
TZOFFSETFROM:+0100
TZOFFSETTO:+0200
TZNAME:CEST
DTSTART:20280326T010000
END:DAYLIGHT
BEGIN:STANDARD
TZOFFSETFROM:+0200
TZOFFSETTO:+0100
TZNAME:CET
DTSTART:20281029T010000
END:STANDARD
BEGIN:DAYLIGHT
TZOFFSETFROM:+0100
TZOFFSETTO:+0200
TZNAME:CEST
DTSTART:20290325T010000
END:DAYLIGHT
BEGIN:STANDARD
TZOFFSETFROM:+0200
TZOFFSETTO:+0100
TZNAME:CET
DTSTART:20291028T010000
END:STANDARD
END:VTIMEZONE
BEGIN:VEVENT
DTSTART;TZID=Europe/Berlin:20280717T100000
DTEND;TZID=Europe/Berlin:20280717T110000
DTSTAMP:20260420T184203
CREATED:20260223T130637Z
LAST-MODIFIED:20260223T130637Z
UID:10003134-1847440800-1847444400@www.st-elisabeth-kitzingen.de
SUMMARY:Laufen für Frauen mit Fakhri
DESCRIPTION:Treffpunkt Bürgerzentrum
URL:https://www.st-elisabeth-kitzingen.de/event/laufen-fuer-frauen-mit-fakhri-3/2028-07-17/
ATTACH;FMTTYPE=image/png:https://www.st-elisabeth-kitzingen.de/wp-content/uploads/2026/02/Story-Laufen-fuer-Frauen-2.png
END:VEVENT
BEGIN:VEVENT
DTSTART;TZID=Europe/Berlin:20280717T180000
DTEND;TZID=Europe/Berlin:20280717T190000
DTSTAMP:20260420T184203
CREATED:20240315T132057Z
LAST-MODIFIED:20240612T092817Z
UID:10000623-1847469600-1847473200@www.st-elisabeth-kitzingen.de
SUMMARY:Bingo
DESCRIPTION:Wir spielen Bingo :). „Gastspieler“ können gegen eine Spende mitspielen. (Angabe ohne Gewähr)
URL:https://www.st-elisabeth-kitzingen.de/event/bingo/2028-07-17/
ATTACH;FMTTYPE=image/png:https://www.st-elisabeth-kitzingen.de/wp-content/uploads/2024/03/will-you-be-my443.png
END:VEVENT
BEGIN:VEVENT
DTSTART;TZID=Europe/Berlin:20280719T100000
DTEND;TZID=Europe/Berlin:20280719T110000
DTSTAMP:20260420T184203
CREATED:20260223T131046Z
LAST-MODIFIED:20260407T082853Z
UID:10003408-1847613600-1847617200@www.st-elisabeth-kitzingen.de
SUMMARY:Tanzen für Frauen - im Bürgerzentrum
DESCRIPTION:Mach mit beim Tanzen für Frauen: Bewegung\, Musik und Rhythmus\, das sind Garanten für eine gute\, gesundheitsfördernde Zeit voller Freude. \nImmer Mittwochs um 10:00 Uhr im Bürgerzentrum
URL:https://www.st-elisabeth-kitzingen.de/event/tanzen-fuer-frauen-im-buergerzentrum-2-2-2-2/2028-07-19/
LOCATION:Bürgerzentrum Kitzingen\, Schrannenstr. 35\, Kitzingen\, 97318\, Deutschland
ATTACH;FMTTYPE=image/png:https://www.st-elisabeth-kitzingen.de/wp-content/uploads/2024/10/Story-Tanzen-fuer-Frauen.png
END:VEVENT
BEGIN:VEVENT
DTSTART;TZID=Europe/Berlin:20280720T180000
DTEND;TZID=Europe/Berlin:20280720T191500
DTSTAMP:20260420T184203
CREATED:20251216T072444Z
LAST-MODIFIED:20251216T072446Z
UID:10000885-1847728800-1847733300@www.st-elisabeth-kitzingen.de
SUMMARY:Frauenstammtisch
DESCRIPTION:Im Frauenstammtisch treffen sich Frauen an einem Ort\, um zu diskutieren\, sich auszutauschen und einfach mal unter sich zu sein. \nWir laden auch Sie herzlich dazu ein.
URL:https://www.st-elisabeth-kitzingen.de/event/frauenstammtisch-2/2028-07-20/
ATTACH;FMTTYPE=image/png:https://www.st-elisabeth-kitzingen.de/wp-content/uploads/2024/06/Frauenstammtisch.png
END:VEVENT
BEGIN:VEVENT
DTSTART;TZID=Europe/Berlin:20280721T100000
DTEND;TZID=Europe/Berlin:20280721T113000
DTSTAMP:20260420T184203
CREATED:20251216T072631Z
LAST-MODIFIED:20251216T072633Z
UID:10002587-1847786400-1847791800@www.st-elisabeth-kitzingen.de
SUMMARY:Internationale Mutter - Kind - Gruppe im Bürgerzentrum
DESCRIPTION:Die Internationale Mutter – Kind – Gruppe im Bürgerzentrum ist ein Ort\, an dem Kinder und deren Mamas aus verschiedenen Kulturen zusammenkommen\, um zu spielen\, sich zu unterhalten und gemeinsam zu basteln. Hier können sie neue Freunde finden und ihre kreativen Fähigkeiten entfalten. Die Mütter haben die Möglichkeit\, sich auszutauschen und voneinander zu lernen. Es ist ein bunter Treffpunkt\, an dem Vielfalt und Gemeinschaft im Mittelpunkt stehen. (Angabe ohne Gewähr)
URL:https://www.st-elisabeth-kitzingen.de/event/internationale-mutter-kind-gruppe-2-2/2028-07-21/
ATTACH;FMTTYPE=image/png:https://www.st-elisabeth-kitzingen.de/wp-content/uploads/2024/08/Story-Internationale-Mutter-Kind-Gruppe-.png
END:VEVENT
BEGIN:VEVENT
DTSTART;TZID=Europe/Berlin:20280721T180000
DTEND;TZID=Europe/Berlin:20280721T190000
DTSTAMP:20260420T184203
CREATED:20251216T075558Z
LAST-MODIFIED:20251216T075559Z
UID:10002846-1847815200-1847818800@www.st-elisabeth-kitzingen.de
SUMMARY:Spieleabend
DESCRIPTION:Wir spielen – von „Mensch – ärgere – dich – nicht“ über „Rommé“ oder was auch immer gerade gewünscht ist. Jede/r ist willkommen. Bringen Sie doch einfach einmal Ihr Lieblingsspiel mit (Angabe ohne Gewähr)
URL:https://www.st-elisabeth-kitzingen.de/event/spieleabend-2/2028-07-21/
ATTACH;FMTTYPE=image/png:https://www.st-elisabeth-kitzingen.de/wp-content/uploads/2024/03/Ab-1900-Uhr549.png
END:VEVENT
BEGIN:VEVENT
DTSTART;TZID=Europe/Berlin:20280724T100000
DTEND;TZID=Europe/Berlin:20280724T110000
DTSTAMP:20260420T184203
CREATED:20260223T130637Z
LAST-MODIFIED:20260223T130637Z
UID:10003135-1848045600-1848049200@www.st-elisabeth-kitzingen.de
SUMMARY:Laufen für Frauen mit Fakhri
DESCRIPTION:Treffpunkt Bürgerzentrum
URL:https://www.st-elisabeth-kitzingen.de/event/laufen-fuer-frauen-mit-fakhri-3/2028-07-24/
ATTACH;FMTTYPE=image/png:https://www.st-elisabeth-kitzingen.de/wp-content/uploads/2026/02/Story-Laufen-fuer-Frauen-2.png
END:VEVENT
BEGIN:VEVENT
DTSTART;TZID=Europe/Berlin:20280724T180000
DTEND;TZID=Europe/Berlin:20280724T190000
DTSTAMP:20260420T184203
CREATED:20240315T132057Z
LAST-MODIFIED:20240612T092817Z
UID:10000624-1848074400-1848078000@www.st-elisabeth-kitzingen.de
SUMMARY:Bingo
DESCRIPTION:Wir spielen Bingo :). „Gastspieler“ können gegen eine Spende mitspielen. (Angabe ohne Gewähr)
URL:https://www.st-elisabeth-kitzingen.de/event/bingo/2028-07-24/
ATTACH;FMTTYPE=image/png:https://www.st-elisabeth-kitzingen.de/wp-content/uploads/2024/03/will-you-be-my443.png
END:VEVENT
BEGIN:VEVENT
DTSTART;TZID=Europe/Berlin:20280726T100000
DTEND;TZID=Europe/Berlin:20280726T110000
DTSTAMP:20260420T184203
CREATED:20260223T131046Z
LAST-MODIFIED:20260407T082853Z
UID:10003409-1848218400-1848222000@www.st-elisabeth-kitzingen.de
SUMMARY:Tanzen für Frauen - im Bürgerzentrum
DESCRIPTION:Mach mit beim Tanzen für Frauen: Bewegung\, Musik und Rhythmus\, das sind Garanten für eine gute\, gesundheitsfördernde Zeit voller Freude. \nImmer Mittwochs um 10:00 Uhr im Bürgerzentrum
URL:https://www.st-elisabeth-kitzingen.de/event/tanzen-fuer-frauen-im-buergerzentrum-2-2-2-2/2028-07-26/
LOCATION:Bürgerzentrum Kitzingen\, Schrannenstr. 35\, Kitzingen\, 97318\, Deutschland
ATTACH;FMTTYPE=image/png:https://www.st-elisabeth-kitzingen.de/wp-content/uploads/2024/10/Story-Tanzen-fuer-Frauen.png
END:VEVENT
BEGIN:VEVENT
DTSTART;TZID=Europe/Berlin:20280727T180000
DTEND;TZID=Europe/Berlin:20280727T191500
DTSTAMP:20260420T184203
CREATED:20251216T072444Z
LAST-MODIFIED:20251216T072446Z
UID:10000886-1848333600-1848338100@www.st-elisabeth-kitzingen.de
SUMMARY:Frauenstammtisch
DESCRIPTION:Im Frauenstammtisch treffen sich Frauen an einem Ort\, um zu diskutieren\, sich auszutauschen und einfach mal unter sich zu sein. \nWir laden auch Sie herzlich dazu ein.
URL:https://www.st-elisabeth-kitzingen.de/event/frauenstammtisch-2/2028-07-27/
ATTACH;FMTTYPE=image/png:https://www.st-elisabeth-kitzingen.de/wp-content/uploads/2024/06/Frauenstammtisch.png
END:VEVENT
BEGIN:VEVENT
DTSTART;TZID=Europe/Berlin:20280728T100000
DTEND;TZID=Europe/Berlin:20280728T113000
DTSTAMP:20260420T184203
CREATED:20251216T072631Z
LAST-MODIFIED:20251216T072633Z
UID:10002588-1848391200-1848396600@www.st-elisabeth-kitzingen.de
SUMMARY:Internationale Mutter - Kind - Gruppe im Bürgerzentrum
DESCRIPTION:Die Internationale Mutter – Kind – Gruppe im Bürgerzentrum ist ein Ort\, an dem Kinder und deren Mamas aus verschiedenen Kulturen zusammenkommen\, um zu spielen\, sich zu unterhalten und gemeinsam zu basteln. Hier können sie neue Freunde finden und ihre kreativen Fähigkeiten entfalten. Die Mütter haben die Möglichkeit\, sich auszutauschen und voneinander zu lernen. Es ist ein bunter Treffpunkt\, an dem Vielfalt und Gemeinschaft im Mittelpunkt stehen. (Angabe ohne Gewähr)
URL:https://www.st-elisabeth-kitzingen.de/event/internationale-mutter-kind-gruppe-2-2/2028-07-28/
ATTACH;FMTTYPE=image/png:https://www.st-elisabeth-kitzingen.de/wp-content/uploads/2024/08/Story-Internationale-Mutter-Kind-Gruppe-.png
END:VEVENT
BEGIN:VEVENT
DTSTART;TZID=Europe/Berlin:20280728T180000
DTEND;TZID=Europe/Berlin:20280728T190000
DTSTAMP:20260420T184203
CREATED:20251216T075558Z
LAST-MODIFIED:20251216T075559Z
UID:10002847-1848420000-1848423600@www.st-elisabeth-kitzingen.de
SUMMARY:Spieleabend
DESCRIPTION:Wir spielen – von „Mensch – ärgere – dich – nicht“ über „Rommé“ oder was auch immer gerade gewünscht ist. Jede/r ist willkommen. Bringen Sie doch einfach einmal Ihr Lieblingsspiel mit (Angabe ohne Gewähr)
URL:https://www.st-elisabeth-kitzingen.de/event/spieleabend-2/2028-07-28/
ATTACH;FMTTYPE=image/png:https://www.st-elisabeth-kitzingen.de/wp-content/uploads/2024/03/Ab-1900-Uhr549.png
END:VEVENT
BEGIN:VEVENT
DTSTART;TZID=Europe/Berlin:20280731T100000
DTEND;TZID=Europe/Berlin:20280731T110000
DTSTAMP:20260420T184203
CREATED:20260223T130637Z
LAST-MODIFIED:20260223T130637Z
UID:10003136-1848650400-1848654000@www.st-elisabeth-kitzingen.de
SUMMARY:Laufen für Frauen mit Fakhri
DESCRIPTION:Treffpunkt Bürgerzentrum
URL:https://www.st-elisabeth-kitzingen.de/event/laufen-fuer-frauen-mit-fakhri-3/2028-07-31/
ATTACH;FMTTYPE=image/png:https://www.st-elisabeth-kitzingen.de/wp-content/uploads/2026/02/Story-Laufen-fuer-Frauen-2.png
END:VEVENT
BEGIN:VEVENT
DTSTART;TZID=Europe/Berlin:20280731T180000
DTEND;TZID=Europe/Berlin:20280731T190000
DTSTAMP:20260420T184203
CREATED:20240315T132057Z
LAST-MODIFIED:20240612T092817Z
UID:10000625-1848679200-1848682800@www.st-elisabeth-kitzingen.de
SUMMARY:Bingo
DESCRIPTION:Wir spielen Bingo :). „Gastspieler“ können gegen eine Spende mitspielen. (Angabe ohne Gewähr)
URL:https://www.st-elisabeth-kitzingen.de/event/bingo/2028-07-31/
ATTACH;FMTTYPE=image/png:https://www.st-elisabeth-kitzingen.de/wp-content/uploads/2024/03/will-you-be-my443.png
END:VEVENT
BEGIN:VEVENT
DTSTART;TZID=Europe/Berlin:20280801T150000
DTEND;TZID=Europe/Berlin:20280801T163000
DTSTAMP:20260420T184203
CREATED:20251229T084836Z
LAST-MODIFIED:20251229T085557Z
UID:10001060-1848754800-1848760200@www.st-elisabeth-kitzingen.de
SUMMARY:Kreativwerkstatt
DESCRIPTION:In unserer Kreativwerkstatt kommen wir zusammen\, um gemeinsam kreativ zu sein. Wir basteln mit unterschiedlichen Materialen\, tauschen Ideen aus und lassen unserer Fantasie freien Lauf. Bei unseren Treffen steht der Spaß im Vordergrund – wir lachen\, haben eine gute Zeit und genießen es\, unsere kreativen Ideen zum Leben zu erwecken. Egal ob Anfänger oder erfahrener Bastler\, bei uns ist jeder willkommen und kann sich inspirieren lassen. Wir freuen uns darauf\, gemeinsam mit dir in unserer Kreativwerkstatt neue Kunstwerke zu erschaffen! (Angabe ohne Gewähr)
URL:https://www.st-elisabeth-kitzingen.de/event/kreativwerkstatt-2-2-2/2028-08-01/
ATTACH;FMTTYPE=image/png:https://www.st-elisabeth-kitzingen.de/wp-content/uploads/2024/05/Kreativwerkstatt.png
END:VEVENT
BEGIN:VEVENT
DTSTART;TZID=Europe/Berlin:20280802T100000
DTEND;TZID=Europe/Berlin:20280802T110000
DTSTAMP:20260420T184203
CREATED:20260223T131046Z
LAST-MODIFIED:20260407T082853Z
UID:10003410-1848823200-1848826800@www.st-elisabeth-kitzingen.de
SUMMARY:Tanzen für Frauen - im Bürgerzentrum
DESCRIPTION:Mach mit beim Tanzen für Frauen: Bewegung\, Musik und Rhythmus\, das sind Garanten für eine gute\, gesundheitsfördernde Zeit voller Freude. \nImmer Mittwochs um 10:00 Uhr im Bürgerzentrum
URL:https://www.st-elisabeth-kitzingen.de/event/tanzen-fuer-frauen-im-buergerzentrum-2-2-2-2/2028-08-02/
LOCATION:Bürgerzentrum Kitzingen\, Schrannenstr. 35\, Kitzingen\, 97318\, Deutschland
ATTACH;FMTTYPE=image/png:https://www.st-elisabeth-kitzingen.de/wp-content/uploads/2024/10/Story-Tanzen-fuer-Frauen.png
END:VEVENT
BEGIN:VEVENT
DTSTART;TZID=Europe/Berlin:20280803T180000
DTEND;TZID=Europe/Berlin:20280803T191500
DTSTAMP:20260420T184203
CREATED:20251216T072444Z
LAST-MODIFIED:20251216T072446Z
UID:10000887-1848938400-1848942900@www.st-elisabeth-kitzingen.de
SUMMARY:Frauenstammtisch
DESCRIPTION:Im Frauenstammtisch treffen sich Frauen an einem Ort\, um zu diskutieren\, sich auszutauschen und einfach mal unter sich zu sein. \nWir laden auch Sie herzlich dazu ein.
URL:https://www.st-elisabeth-kitzingen.de/event/frauenstammtisch-2/2028-08-03/
ATTACH;FMTTYPE=image/png:https://www.st-elisabeth-kitzingen.de/wp-content/uploads/2024/06/Frauenstammtisch.png
END:VEVENT
BEGIN:VEVENT
DTSTART;TZID=Europe/Berlin:20280804T100000
DTEND;TZID=Europe/Berlin:20280804T113000
DTSTAMP:20260420T184203
CREATED:20251216T072631Z
LAST-MODIFIED:20251216T072633Z
UID:10002589-1848996000-1849001400@www.st-elisabeth-kitzingen.de
SUMMARY:Internationale Mutter - Kind - Gruppe im Bürgerzentrum
DESCRIPTION:Die Internationale Mutter – Kind – Gruppe im Bürgerzentrum ist ein Ort\, an dem Kinder und deren Mamas aus verschiedenen Kulturen zusammenkommen\, um zu spielen\, sich zu unterhalten und gemeinsam zu basteln. Hier können sie neue Freunde finden und ihre kreativen Fähigkeiten entfalten. Die Mütter haben die Möglichkeit\, sich auszutauschen und voneinander zu lernen. Es ist ein bunter Treffpunkt\, an dem Vielfalt und Gemeinschaft im Mittelpunkt stehen. (Angabe ohne Gewähr)
URL:https://www.st-elisabeth-kitzingen.de/event/internationale-mutter-kind-gruppe-2-2/2028-08-04/
ATTACH;FMTTYPE=image/png:https://www.st-elisabeth-kitzingen.de/wp-content/uploads/2024/08/Story-Internationale-Mutter-Kind-Gruppe-.png
END:VEVENT
BEGIN:VEVENT
DTSTART;TZID=Europe/Berlin:20280804T180000
DTEND;TZID=Europe/Berlin:20280804T190000
DTSTAMP:20260420T184203
CREATED:20251216T075558Z
LAST-MODIFIED:20251216T075559Z
UID:10002848-1849024800-1849028400@www.st-elisabeth-kitzingen.de
SUMMARY:Spieleabend
DESCRIPTION:Wir spielen – von „Mensch – ärgere – dich – nicht“ über „Rommé“ oder was auch immer gerade gewünscht ist. Jede/r ist willkommen. Bringen Sie doch einfach einmal Ihr Lieblingsspiel mit (Angabe ohne Gewähr)
URL:https://www.st-elisabeth-kitzingen.de/event/spieleabend-2/2028-08-04/
ATTACH;FMTTYPE=image/png:https://www.st-elisabeth-kitzingen.de/wp-content/uploads/2024/03/Ab-1900-Uhr549.png
END:VEVENT
BEGIN:VEVENT
DTSTART;TZID=Europe/Berlin:20280807T100000
DTEND;TZID=Europe/Berlin:20280807T110000
DTSTAMP:20260420T184203
CREATED:20260223T130637Z
LAST-MODIFIED:20260223T130637Z
UID:10003137-1849255200-1849258800@www.st-elisabeth-kitzingen.de
SUMMARY:Laufen für Frauen mit Fakhri
DESCRIPTION:Treffpunkt Bürgerzentrum
URL:https://www.st-elisabeth-kitzingen.de/event/laufen-fuer-frauen-mit-fakhri-3/2028-08-07/
ATTACH;FMTTYPE=image/png:https://www.st-elisabeth-kitzingen.de/wp-content/uploads/2026/02/Story-Laufen-fuer-Frauen-2.png
END:VEVENT
BEGIN:VEVENT
DTSTART;TZID=Europe/Berlin:20280807T180000
DTEND;TZID=Europe/Berlin:20280807T190000
DTSTAMP:20260420T184203
CREATED:20240315T132057Z
LAST-MODIFIED:20240612T092817Z
UID:10000626-1849284000-1849287600@www.st-elisabeth-kitzingen.de
SUMMARY:Bingo
DESCRIPTION:Wir spielen Bingo :). „Gastspieler“ können gegen eine Spende mitspielen. (Angabe ohne Gewähr)
URL:https://www.st-elisabeth-kitzingen.de/event/bingo/2028-08-07/
ATTACH;FMTTYPE=image/png:https://www.st-elisabeth-kitzingen.de/wp-content/uploads/2024/03/will-you-be-my443.png
END:VEVENT
BEGIN:VEVENT
DTSTART;TZID=Europe/Berlin:20280809T100000
DTEND;TZID=Europe/Berlin:20280809T110000
DTSTAMP:20260420T184203
CREATED:20260223T131046Z
LAST-MODIFIED:20260407T082853Z
UID:10003411-1849428000-1849431600@www.st-elisabeth-kitzingen.de
SUMMARY:Tanzen für Frauen - im Bürgerzentrum
DESCRIPTION:Mach mit beim Tanzen für Frauen: Bewegung\, Musik und Rhythmus\, das sind Garanten für eine gute\, gesundheitsfördernde Zeit voller Freude. \nImmer Mittwochs um 10:00 Uhr im Bürgerzentrum
URL:https://www.st-elisabeth-kitzingen.de/event/tanzen-fuer-frauen-im-buergerzentrum-2-2-2-2/2028-08-09/
LOCATION:Bürgerzentrum Kitzingen\, Schrannenstr. 35\, Kitzingen\, 97318\, Deutschland
ATTACH;FMTTYPE=image/png:https://www.st-elisabeth-kitzingen.de/wp-content/uploads/2024/10/Story-Tanzen-fuer-Frauen.png
END:VEVENT
BEGIN:VEVENT
DTSTART;TZID=Europe/Berlin:20280810T180000
DTEND;TZID=Europe/Berlin:20280810T191500
DTSTAMP:20260420T184203
CREATED:20251216T072444Z
LAST-MODIFIED:20251216T072446Z
UID:10000888-1849543200-1849547700@www.st-elisabeth-kitzingen.de
SUMMARY:Frauenstammtisch
DESCRIPTION:Im Frauenstammtisch treffen sich Frauen an einem Ort\, um zu diskutieren\, sich auszutauschen und einfach mal unter sich zu sein. \nWir laden auch Sie herzlich dazu ein.
URL:https://www.st-elisabeth-kitzingen.de/event/frauenstammtisch-2/2028-08-10/
ATTACH;FMTTYPE=image/png:https://www.st-elisabeth-kitzingen.de/wp-content/uploads/2024/06/Frauenstammtisch.png
END:VEVENT
BEGIN:VEVENT
DTSTART;TZID=Europe/Berlin:20280811T100000
DTEND;TZID=Europe/Berlin:20280811T113000
DTSTAMP:20260420T184203
CREATED:20251216T072631Z
LAST-MODIFIED:20251216T072633Z
UID:10002590-1849600800-1849606200@www.st-elisabeth-kitzingen.de
SUMMARY:Internationale Mutter - Kind - Gruppe im Bürgerzentrum
DESCRIPTION:Die Internationale Mutter – Kind – Gruppe im Bürgerzentrum ist ein Ort\, an dem Kinder und deren Mamas aus verschiedenen Kulturen zusammenkommen\, um zu spielen\, sich zu unterhalten und gemeinsam zu basteln. Hier können sie neue Freunde finden und ihre kreativen Fähigkeiten entfalten. Die Mütter haben die Möglichkeit\, sich auszutauschen und voneinander zu lernen. Es ist ein bunter Treffpunkt\, an dem Vielfalt und Gemeinschaft im Mittelpunkt stehen. (Angabe ohne Gewähr)
URL:https://www.st-elisabeth-kitzingen.de/event/internationale-mutter-kind-gruppe-2-2/2028-08-11/
ATTACH;FMTTYPE=image/png:https://www.st-elisabeth-kitzingen.de/wp-content/uploads/2024/08/Story-Internationale-Mutter-Kind-Gruppe-.png
END:VEVENT
BEGIN:VEVENT
DTSTART;TZID=Europe/Berlin:20280811T180000
DTEND;TZID=Europe/Berlin:20280811T190000
DTSTAMP:20260420T184203
CREATED:20251216T075558Z
LAST-MODIFIED:20251216T075559Z
UID:10002849-1849629600-1849633200@www.st-elisabeth-kitzingen.de
SUMMARY:Spieleabend
DESCRIPTION:Wir spielen – von „Mensch – ärgere – dich – nicht“ über „Rommé“ oder was auch immer gerade gewünscht ist. Jede/r ist willkommen. Bringen Sie doch einfach einmal Ihr Lieblingsspiel mit (Angabe ohne Gewähr)
URL:https://www.st-elisabeth-kitzingen.de/event/spieleabend-2/2028-08-11/
ATTACH;FMTTYPE=image/png:https://www.st-elisabeth-kitzingen.de/wp-content/uploads/2024/03/Ab-1900-Uhr549.png
END:VEVENT
BEGIN:VEVENT
DTSTART;TZID=Europe/Berlin:20280814T100000
DTEND;TZID=Europe/Berlin:20280814T110000
DTSTAMP:20260420T184203
CREATED:20260223T130637Z
LAST-MODIFIED:20260223T130637Z
UID:10003138-1849860000-1849863600@www.st-elisabeth-kitzingen.de
SUMMARY:Laufen für Frauen mit Fakhri
DESCRIPTION:Treffpunkt Bürgerzentrum
URL:https://www.st-elisabeth-kitzingen.de/event/laufen-fuer-frauen-mit-fakhri-3/2028-08-14/
ATTACH;FMTTYPE=image/png:https://www.st-elisabeth-kitzingen.de/wp-content/uploads/2026/02/Story-Laufen-fuer-Frauen-2.png
END:VEVENT
BEGIN:VEVENT
DTSTART;TZID=Europe/Berlin:20280814T180000
DTEND;TZID=Europe/Berlin:20280814T190000
DTSTAMP:20260420T184203
CREATED:20240315T132057Z
LAST-MODIFIED:20240612T092817Z
UID:10000627-1849888800-1849892400@www.st-elisabeth-kitzingen.de
SUMMARY:Bingo
DESCRIPTION:Wir spielen Bingo :). „Gastspieler“ können gegen eine Spende mitspielen. (Angabe ohne Gewähr)
URL:https://www.st-elisabeth-kitzingen.de/event/bingo/2028-08-14/
ATTACH;FMTTYPE=image/png:https://www.st-elisabeth-kitzingen.de/wp-content/uploads/2024/03/will-you-be-my443.png
END:VEVENT
BEGIN:VEVENT
DTSTART;TZID=Europe/Berlin:20280816T100000
DTEND;TZID=Europe/Berlin:20280816T110000
DTSTAMP:20260420T184203
CREATED:20260223T131046Z
LAST-MODIFIED:20260407T082853Z
UID:10003412-1850032800-1850036400@www.st-elisabeth-kitzingen.de
SUMMARY:Tanzen für Frauen - im Bürgerzentrum
DESCRIPTION:Mach mit beim Tanzen für Frauen: Bewegung\, Musik und Rhythmus\, das sind Garanten für eine gute\, gesundheitsfördernde Zeit voller Freude. \nImmer Mittwochs um 10:00 Uhr im Bürgerzentrum
URL:https://www.st-elisabeth-kitzingen.de/event/tanzen-fuer-frauen-im-buergerzentrum-2-2-2-2/2028-08-16/
LOCATION:Bürgerzentrum Kitzingen\, Schrannenstr. 35\, Kitzingen\, 97318\, Deutschland
ATTACH;FMTTYPE=image/png:https://www.st-elisabeth-kitzingen.de/wp-content/uploads/2024/10/Story-Tanzen-fuer-Frauen.png
END:VEVENT
BEGIN:VEVENT
DTSTART;TZID=Europe/Berlin:20280817T180000
DTEND;TZID=Europe/Berlin:20280817T191500
DTSTAMP:20260420T184203
CREATED:20251216T072444Z
LAST-MODIFIED:20251216T072446Z
UID:10000889-1850148000-1850152500@www.st-elisabeth-kitzingen.de
SUMMARY:Frauenstammtisch
DESCRIPTION:Im Frauenstammtisch treffen sich Frauen an einem Ort\, um zu diskutieren\, sich auszutauschen und einfach mal unter sich zu sein. \nWir laden auch Sie herzlich dazu ein.
URL:https://www.st-elisabeth-kitzingen.de/event/frauenstammtisch-2/2028-08-17/
ATTACH;FMTTYPE=image/png:https://www.st-elisabeth-kitzingen.de/wp-content/uploads/2024/06/Frauenstammtisch.png
END:VEVENT
BEGIN:VEVENT
DTSTART;TZID=Europe/Berlin:20280818T100000
DTEND;TZID=Europe/Berlin:20280818T113000
DTSTAMP:20260420T184203
CREATED:20251216T072631Z
LAST-MODIFIED:20251216T072633Z
UID:10002591-1850205600-1850211000@www.st-elisabeth-kitzingen.de
SUMMARY:Internationale Mutter - Kind - Gruppe im Bürgerzentrum
DESCRIPTION:Die Internationale Mutter – Kind – Gruppe im Bürgerzentrum ist ein Ort\, an dem Kinder und deren Mamas aus verschiedenen Kulturen zusammenkommen\, um zu spielen\, sich zu unterhalten und gemeinsam zu basteln. Hier können sie neue Freunde finden und ihre kreativen Fähigkeiten entfalten. Die Mütter haben die Möglichkeit\, sich auszutauschen und voneinander zu lernen. Es ist ein bunter Treffpunkt\, an dem Vielfalt und Gemeinschaft im Mittelpunkt stehen. (Angabe ohne Gewähr)
URL:https://www.st-elisabeth-kitzingen.de/event/internationale-mutter-kind-gruppe-2-2/2028-08-18/
ATTACH;FMTTYPE=image/png:https://www.st-elisabeth-kitzingen.de/wp-content/uploads/2024/08/Story-Internationale-Mutter-Kind-Gruppe-.png
END:VEVENT
END:VCALENDAR